BEGIN:VCALENDAR
VERSION:2.0
PRODID:-//Eventin//Event Calendar//EN
CALSCALE:GREGORIAN
METHOD:PUBLISH
BEGIN:VEVENT
UID:bb9ea05a5b0cf86739e51606da29d1dc@www.camrosechamber.ca
SUMMARY:2026 Jaywalkers Jamboree
DESCRIPTION:Jaywalkers Jamboree 2026\nJune 5–7\, 2026 | Downtown Camrose\
 , Alberta\nThe 2026 Jaywalkers Jamboree\, hosted by the Camrose & District 
 Chamber of Commerce\, returns to downtown Camrose from Friday\, June 5 to S
 unday\, June 7\, 2026.\nThis vibrant three-day festival transforms 50th Str
 eet into a lively pedestrian-only zone filled with rides\, food\, shopping\
 , entertainment\, and family fun. A long-standing Camrose tradition\, Jaywa
 lkers Jamboree draws thousands of visitors each year and kicks off summer i
 n the heart of our community.\n\n🎡 What to Expect\nMidway Rides & Games\
 nWest Coast Amusements will once again bring a full lineup of rides and gam
 es for all ages.\nAdvance Ride Wristbands\n\n\n$45 per person\, per day\n\n
 \nAvailable while quantities last until June 4 at 4:00 PM\n\n\nAdvance wris
 tbands can be purchased at:\n\n\nCamrose & District Chamber of Commerce5402
  48 Avenue (Bill Fowler Centre)\n\n\nCanadian Tire\n\n\nSave-On-Foods\n\n\n
 Wild Rose Co-op\n\n\nEvent-Day Wristbands\n\n\n$55 per person\, per day\n\n
 \nAvailable at West Coast Amusements ticket booths during the event\n\n\nAd
 mission to Jaywalkers Jamboree is free. Wristbands or individual ride ticke
 ts are required for midway rides.\n\nVendor Marketplace\nStroll through a w
 ide variety of vendors offering unique products\, services\, and local find
 s.\nVendor registration for 2026:\n\n\nOpened January 23\, 2026 for Chamber
  members and downtown businesses\n\n\nOpened March 1\, 2026 for all other v
 endors\n\n\nSOLD OUT by April 30\n\n\nSpaces are assigned on a first-come\,
  first-served basis with a completed application package.\n👉 Interested 
 in becoming a vendor?Register using the following link:https://form.jotform
 .com/260208049275254\nIf you missed out this year\, mark your calendar earl
 y — spaces fill quickly.\n\nLive Entertainment\nEnjoy free live entertain
 ment all weekend long on the Main Stage\, featuring local dance clubs\, ban
 ds\, singers\, and performers. Entertainment runs throughout the festival a
 nd adds to the high-energy\, community-focused atmosphere.\n\nFood Vendors\
 nIndulge in a wide range of festival favourites\, including:\n\n\nHot butte
 red corn on the cob\n\n\nBurgers and fries\n\n\nMini doughnuts\n\n\nInterna
 tional cuisine including Ukrainian\, Mexican\, Asian dishes\, and more\n\n\
 nThere’s something to satisfy every craving.\n\nChildren’s Activities\n
 Jaywalkers Jamboree is a family-friendly event with activities and attracti
 ons designed to keep kids entertained throughout the weekend.\n\n🕒 Event
  Schedule\nFriday\, June 5: 10:00 AM – 10:00 PMSaturday\, June 6: 10:00 A
 M – 10:00 PMSunday\, June 7: 11:00 AM – 6:00 PM\nSchedule subject to ch
 ange. Please check this page during the event for the most up-to-date infor
 mation.\n\n🥞 Pancake Breakfast\nFriday\, June 5 | 7:30 AM – 10:00 AMRA
 IN OR SHINE\nThe 2026 Pancake Breakfast (Friday only) is proudly brought to
  you by Western Financial Group.\nFor more information\, please contact:ang
 ela.sheppard@westernfg.ca\n\n🎟️ Ticket Information\n\n\nAdvance Ride W
 ristbands: $45 per person\, per day\n\n\nEvent-Day Wristbands: $55 per pers
 on\, per day\n\n\nEvent admission is free to all (no dogs please - for ever
 yone's enjoyment\, safety and the safety of the dogs also)\n\n\n\nThe Jaywa
 lkers Jamboree is one of Camrose’s most cherished summer events\, offerin
 g something for everyone. Whether you’re looking for thrilling rides\, in
 credible food\, unique shopping\, or live entertainment\, this three-day ce
 lebration is a must-attend highlight of the season.
LOCATION:Downtown Camrose
DTSTAMP:20260424T144103Z
DTSTART:20260605T160000Z
DTEND:20260608T000000Z
END:VEVENT
END:VCALENDAR
